BEGIN:VCALENDAR
VERSION:2.0
PRODID:-//Soralia - ECPv6.15.17.1//NONSGML v1.0//EN
CALSCALE:GREGORIAN
METHOD:PUBLISH
X-WR-CALNAME:Soralia
X-ORIGINAL-URL:https://www.soralia.be/accueil
X-WR-CALDESC:Évènements pour Soralia
REFRESH-INTERVAL;VALUE=DURATION:PT1H
X-Robots-Tag:noindex
X-PUBLISHED-TTL:PT1H
BEGIN:VTIMEZONE
TZID:Europe/Paris
BEGIN:DAYLIGHT
TZOFFSETFROM:+0100
TZOFFSETTO:+0200
TZNAME:CEST
DTSTART:20160327T010000
END:DAYLIGHT
BEGIN:STANDARD
TZOFFSETFROM:+0200
TZOFFSETTO:+0100
TZNAME:CET
DTSTART:20161030T010000
END:STANDARD
BEGIN:DAYLIGHT
TZOFFSETFROM:+0100
TZOFFSETTO:+0200
TZNAME:CEST
DTSTART:20170326T010000
END:DAYLIGHT
BEGIN:STANDARD
TZOFFSETFROM:+0200
TZOFFSETTO:+0100
TZNAME:CET
DTSTART:20171029T010000
END:STANDARD
BEGIN:DAYLIGHT
TZOFFSETFROM:+0100
TZOFFSETTO:+0200
TZNAME:CEST
DTSTART:20180325T010000
END:DAYLIGHT
BEGIN:STANDARD
TZOFFSETFROM:+0200
TZOFFSETTO:+0100
TZNAME:CET
DTSTART:20181028T010000
END:STANDARD
BEGIN:DAYLIGHT
TZOFFSETFROM:+0100
TZOFFSETTO:+0200
TZNAME:CEST
DTSTART:20190331T010000
END:DAYLIGHT
BEGIN:STANDARD
TZOFFSETFROM:+0200
TZOFFSETTO:+0100
TZNAME:CET
DTSTART:20191027T010000
END:STANDARD
BEGIN:DAYLIGHT
TZOFFSETFROM:+0100
TZOFFSETTO:+0200
TZNAME:CEST
DTSTART:20200329T010000
END:DAYLIGHT
BEGIN:STANDARD
TZOFFSETFROM:+0200
TZOFFSETTO:+0100
TZNAME:CET
DTSTART:20201025T010000
END:STANDARD
BEGIN:DAYLIGHT
TZOFFSETFROM:+0100
TZOFFSETTO:+0200
TZNAME:CEST
DTSTART:20210328T010000
END:DAYLIGHT
BEGIN:STANDARD
TZOFFSETFROM:+0200
TZOFFSETTO:+0100
TZNAME:CET
DTSTART:20211031T010000
END:STANDARD
END:VTIMEZONE
BEGIN:VEVENT
DTSTART;VALUE=DATE:20200519
DTEND;VALUE=DATE:20200520
DTSTAMP:20260421T175959
CREATED:20191217T102645Z
LAST-MODIFIED:20191217T102707Z
UID:10004867-1589846400-1589932799@www.soralia.be
SUMMARY:Journée Thalasso aux Thermes de Spa
DESCRIPTION:Afin de vous détendre\, de profiter du grand air\, et des bienfaits d’une cure aux Thermes de Spa\, Soralia vous emmènent sur place\, pour une » journée détente et prendre soin de soi ». \nAu programme: \n7h00: départ en car de La Hestre\n7h30: départ en car de Charleroi\nArrivée sur place aux alentours de 9h30. \nVous avez le choix entre une randonnée dans les bois avec notre animatrice\, ou alors vous pourrez flâner au gré de vos envies dans les rues de Spa\, et découvrir les petits commerces d’artisans ou encore leur parc des 7 sept heures!\nL’après-midi sera consacrée aux Thermes. De 13h à 16h\, vous profiterez des installations des thermes. A savoir: une piscine intérieure\, une piscine extérieure\,  une intérieure\, des jacuzzi\, un hammam\, un sauna\, deux salles de repos\, et une jolie terrasse pour profiter de la vue splendide de la vallée de Spa. \n16h15: départ de Spa \n18h: retour à Charleroi  (horaire variable en fonction du trafic)\n18h30: retour à La Hestre (horaire variable en fonction du trafic) \nInscriptions obligatoires à partir du 6 janvier auprès de notre secrétariat au 071/507.821 \nNombre de places limitées.
URL:https://www.soralia.be/accueil/event/journee-thalasso-aux-thermes-de-spa-7/
LOCATION:Thermes de Spa\, Colline d'Annette et Lubin \, SPA\, Liège\, 4900\, Belgique
CATEGORIES:Charleroi,Loisirs,Régional
ATTACH;FMTTYPE=image/png:https://www.soralia.be/wp-content/uploads/2017/01/calendrier-mai.png
END:VEVENT
BEGIN:VEVENT
DTSTART;VALUE=DATE:20200218
DTEND;VALUE=DATE:20200219
DTSTAMP:20260421T175959
CREATED:20191217T102405Z
LAST-MODIFIED:20191217T102405Z
UID:10004866-1581984000-1582070399@www.soralia.be
SUMMARY:Journée Thalasso aux Thermes de Spa
DESCRIPTION:Afin de vous détendre\, de profiter du grand air\, et des bienfaits d’une cure aux Thermes de Spa\, Soralia vous emmènent sur place\, pour une » journée détente et prendre soin de soi ». \nAu programme: \n7h00: départ en car de La Hestre\n7h30: départ en car de Charleroi\nArrivée sur place aux alentours de 9h30. \nVous avez le choix entre une randonnée dans les bois avec notre animatrice\, ou alors vous pourrez flâner au gré de vos envies dans les rues de Spa\, et découvrir les petits commerces d’artisans ou encore leur parc des 7 sept heures!\nL’après-midi sera consacrée aux Thermes. De 13h à 16h\, vous profiterez des installations des thermes. A savoir: une piscine intérieure\, une piscine extérieure\,  une intérieure\, des jacuzzi\, un hammam\, un sauna\, deux salles de repos\, et une jolie terrasse pour profiter de la vue splendide de la vallée de Spa. \n16h15: départ de Spa \n18h: retour à La Hestre (horaire variable en fonction du trafic)\n18h30: retour à Charleroi (horaire variable en fonction du trafic) \nInscriptions obligatoires à partir du 6 janvier auprès de notre secrétariat au 071/507.821 \nNombre de places limitées.
URL:https://www.soralia.be/accueil/event/journee-thalasso-aux-thermes-de-spa-6/
LOCATION:Thermes de Spa\, Colline d'Annette et Lubin \, SPA\, Liège\, 4900\, Belgique
CATEGORIES:Charleroi,Loisirs,Régional
ATTACH;FMTTYPE=image/png:https://www.soralia.be/wp-content/uploads/2017/01/calendrier-fevrier.png
END:VEVENT
BEGIN:VEVENT
DTSTART;TZID=Europe/Paris:20191210T070000
DTEND;TZID=Europe/Paris:20191210T190000
DTSTAMP:20260421T175959
CREATED:20190819T142621Z
LAST-MODIFIED:20190819T142621Z
UID:10004586-1575961200-1576004400@www.soralia.be
SUMMARY:Journée Thalasso aux Thermes de Spa
DESCRIPTION:Afin de vous détendre\, de profiter du grand air\, et des bienfaits d’une cure aux Thermes de Spa\, Soralia vous emmènent sur place\, pour une » journée détente et prendre soin de soi ». \nAu programme: \n7h00: départ en car de La Hestre\n7h30: départ en car de Charleroi\nArrivée sur place aux alentours de 9h30. \nVous avez le choix entre une randonnée dans les bois avec notre animatrice\, ou alors vous pourrez flâner au gré de vos envies dans les rues de Spa\, et découvrir les petits commerces d’artisans ou encore leur parc des 7 sept heures!\nL’après-midi sera consacrée aux Thermes. De 13h à 16h\, vous profiterez des installations des thermes. A savoir: une piscine intérieure\, une piscine extérieure\,  une intérieure\, des jacuzzi\, un hammam\, un sauna\, deux salles de repos\, et une jolie terrasse pour profiter de la vue splendide de la vallée de Spa. \n16h15: départ de Spa \n18h: retour à Charleroi (horaire variable en fonction du trafic)\n18h30: retour à La Hestre (horaire variable en fonction du trafic) \nInscriptions obligatoires & nombre de places limitées.
URL:https://www.soralia.be/accueil/event/journee-thalasso-aux-thermes-de-spa-5/
LOCATION:Thermes de Spa\, Colline d'Annette et Lubin \, SPA\, Liège\, 4900\, Belgique
CATEGORIES:Charleroi,Loisirs,Régional
ATTACH;FMTTYPE=image/png:https://www.soralia.be/wp-content/uploads/2017/01/calendrier-dec.png
END:VEVENT
BEGIN:VEVENT
DTSTART;TZID=Europe/Paris:20191008T070000
DTEND;TZID=Europe/Paris:20191008T190000
DTSTAMP:20260421T175959
CREATED:20190820T090510Z
LAST-MODIFIED:20190820T090510Z
UID:10004619-1570518000-1570561200@www.soralia.be
SUMMARY:Journée Thalasso et détente aux Thermes de Spa
DESCRIPTION:Afin de vous détendre\, de profiter du grand air\, et des bienfaits d’une cure aux Thermes de Spa\, Soralia vous emmènent sur place\, pour une » journée détente et prendre soin de soi ». \nAu programme: \n7h00: départ en car de La Hestre\n7h30: départ en car de Charleroi\nArrivée sur place aux alentours de 9h30. \nVous avez le choix entre une randonnée dans les bois avec notre animatrice\, ou alors vous pourrez flâner au gré de vos envies dans les rues de Spa\, et découvrir les petits commerces d’artisans ou encore leur parc des 7 sept heures!\nL’après-midi sera consacrée aux Thermes. De 13h à 16h\, vous profiterez des installations des thermes. A savoir: une piscine intérieure\, une piscine extérieure\,  une intérieure\, des jacuzzi\, un hammam\, un sauna\, deux salles de repos\, et une jolie terrasse pour profiter de la vue splendide de la vallée de Spa. \n16h15: départ de Spa \n18h: retour à Charleroi (horaire variable en fonction du trafic)\n18h30: retour à La Hestre (horaire variable en fonction du trafic) \nInscriptions obligatoires & nombre de places limitées.
URL:https://www.soralia.be/accueil/event/journee-thalasso-et-detente-aux-thermes-de-spa/
LOCATION:Thermes de Spa\, Colline d'Annette et Lubin \, SPA\, Liège\, 4900\, Belgique
CATEGORIES:Charleroi,Loisirs,Régional
ATTACH;FMTTYPE=image/png:https://www.soralia.be/wp-content/uploads/2017/01/calendrier-oct.png
END:VEVENT
BEGIN:VEVENT
DTSTART;TZID=Europe/Paris:20191008T070000
DTEND;TZID=Europe/Paris:20191008T190000
DTSTAMP:20260421T175959
CREATED:20190819T142507Z
LAST-MODIFIED:20190819T142507Z
UID:10004585-1570518000-1570561200@www.soralia.be
SUMMARY:Journée Thalasso aux Thermes de Spa
DESCRIPTION:Afin de vous détendre\, de profiter du grand air\, et des bienfaits d’une cure aux Thermes de Spa\, Soralia vous emmènent sur place\, pour une « journée détente et prendre soin de soi ». \nAu programme: \n7h00: départ en car de La Hestre\n7h30: départ en car de Charleroi\nArrivée sur place aux alentours de 9h30. \nVous avez le choix entre une randonnée dans les bois avec notre animatrice\, ou alors vous pourrez flâner au gré de vos envies dans les rues de Spa\, et découvrir les petits commerces d’artisans ou encore leur parc des 7 sept heures!\nL’après-midi sera consacrée aux Thermes. De 13h à 16h\, vous profiterez des installations des thermes. A savoir: une piscine intérieure\, une piscine extérieure\,  une intérieure\, des jacuzzi\, un hammam\, un sauna\, deux salles de repos\, et une jolie terrasse pour profiter de la vue splendide de la vallée de Spa. \n16h15: départ de Spa \n18h: retour à Charleroi (horaire variable en fonction du trafic)\n18h30: retour à La Hestre (horaire variable en fonction du trafic) \nInscriptions obligatoires & nombre de places limitées. \nLe prix comprend l’aller-retour en car ainsi que l’entrée aux Thermes et la randonnée.
URL:https://www.soralia.be/accueil/event/journee-thalasso-aux-thermes-de-spa-4/
LOCATION:Thermes de Spa\, Colline d'Annette et Lubin \, SPA\, Liège\, 4900\, Belgique
CATEGORIES:Charleroi,Loisirs,Régional
ATTACH;FMTTYPE=image/png:https://www.soralia.be/wp-content/uploads/2017/01/calendrier-oct.png
END:VEVENT
BEGIN:VEVENT
DTSTART;TZID=Europe/Paris:20190212T070000
DTEND;TZID=Europe/Paris:20190212T183000
DTSTAMP:20260421T175959
CREATED:20181024T135313Z
LAST-MODIFIED:20181024T135313Z
UID:10004145-1549954800-1549996200@www.soralia.be
SUMMARY:Journée Thalasso aux Thermes de Spa
DESCRIPTION:Afin de vous détendre\, de profiter du grand air\, et des bienfaits d’une cure aux Thermes de Spa\, Soralia vous emmènent sur place\, pour une » journée détente et prendre soin de soi ». \nAu programme: \n7h00: départ en car de La Hestre\n7h30: départ en car de Charleroi\nArrivée sur place aux alentours de 9h30. \nVous avez le choix entre une randonnée dans les bois avec notre animatrice\, ou alors vous pourrez flâner au gré de vos envies dans les rues de Spa\, et découvrir les petits commerces d’artisans ou encore leur parc des 7 sept heures!\nL’après-midi sera consacrée aux Thermes. De 13h à 16h\, vous profiterez des installations des thermes. A savoir: une piscine intérieure\, une piscine extérieure\,  une intérieure\, des jacuzzi\, un hammam\, un sauna\, deux salles de repos\, et une jolie terrasse pour profiter de la vue splendide de la vallée de Spa. \n16h15: départ de Spa \n18h: retour à Charleroi (horaire variable en fonction du trafic)\n18h30: retour à La Hestre (horaire variable en fonction du trafic) \nInscriptions obligatoires & nombre de places limitées.
URL:https://www.soralia.be/accueil/event/journee-thalasso-aux-thermes-de-spa-3/
LOCATION:Thermes de Spa\, Colline d'Annette et Lubin \, SPA\, Liège\, 4900\, Belgique
CATEGORIES:Charleroi,Loisirs
ATTACH;FMTTYPE=image/png:https://www.soralia.be/wp-content/uploads/2017/01/calendrier-fevrier.png
END:VEVENT
BEGIN:VEVENT
DTSTART;TZID=Europe/Paris:20180220T070000
DTEND;TZID=Europe/Paris:20180220T183000
DTSTAMP:20260421T175959
CREATED:20171214T105452Z
LAST-MODIFIED:20171214T105452Z
UID:10003907-1519110000-1519151400@www.soralia.be
SUMMARY:Journée Thalasso aux Thermes de Spa
DESCRIPTION:Une journée pour se dépayser\, pour faire le plein d’air frais\, de nature\, de soins et bien-être. \nC’est ce mardi 20 février\, aux Thermes de Spa que nous vous emmenons ! \nLa matinée sera consacrée à une randonnée ou une balade dans la ville de Spa\, au choix. Quant à l’après-midi\, vous aurez accès\, durant 3 heures\, à l’ensemble des Thermes de Spa. \nAu programme\, les piscines intérieures et extérieurs\, les jacuzzis\, le hammam\, le Sauna ainsi que les deux salles de repos. \nEmportez dans votre sac: deux serviettes de bain\, vos shampoings et gels douche\, votre maillot\, votre peignoir de bain si vous souhaitez être en peignoir de bain.\nIl est toutefois possible d’en louer un sur place (7€)\nDépart de La Hestre et de Charleroi. \nInfos et réservations obligatoires
URL:https://www.soralia.be/accueil/event/journee-thalasso-aux-thermes-de-spa/
LOCATION:Thermes de Spa\, Colline d'Annette et Lubin \, SPA\, Liège\, 4900\, Belgique
CATEGORIES:Charleroi,Loisirs,Régional
ATTACH;FMTTYPE=image/png:https://www.soralia.be/wp-content/uploads/2017/01/calendrier-fevrier.png
END:VEVENT
BEGIN:VEVENT
DTSTART;VALUE=DATE:20171212
DTEND;VALUE=DATE:20171213
DTSTAMP:20260421T175959
CREATED:20171016T142640Z
LAST-MODIFIED:20171204T084330Z
UID:10003864-1513036800-1513123199@www.soralia.be
SUMMARY:Journée Thalasso - Bien-Être
DESCRIPTION:Une journée pour se dépayser\, pour faire le plein d’air frais\, de nature\, de soins et bien-être. \nC’est ce mardi 12 décembre\, aux Thermes de Spa que nous vous emmenons ! \nLa matinée sera consacrée à une randonnée ou une balade dans la ville de Spa\, au choix. Quant à l’après-midi\, vous aurez accès\, durant 3 heures\, à l’ensemble des Thermes de Spa. \nAu programme\, les piscines intérieures et extérieurs\, les jacuzzis\, le hammam\, le Sauna ainsi que les deux salles de repos. \nEmportez dans votre sac: deux serviettes de bain\, vos shampoings et gels douche\, votre maillot\, votre peignoir de bain si vous souhaitez être en peignoir de bain.\nIl est toutefois possible d’en louer un sur place (4€)\nDépart de La Hestre et de Charleroi. \nInfos et réservations obligatoires: 071/507.821 \n 
URL:https://www.soralia.be/accueil/event/journee-thalasso-bien-etre/
LOCATION:Thermes de Spa\, Colline d'Annette et Lubin \, SPA\, Liège\, 4900\, Belgique
CATEGORIES:Charleroi,Général,Loisirs,Régional
ATTACH;FMTTYPE=image/png:https://www.soralia.be/wp-content/uploads/2017/01/calendrier-dec.png
END:VEVENT
BEGIN:VEVENT
DTSTART;VALUE=DATE:20171010
DTEND;VALUE=DATE:20171011
DTSTAMP:20260421T175959
CREATED:20170825T102552Z
LAST-MODIFIED:20171005T094428Z
UID:10003834-1507593600-1507679999@www.soralia.be
SUMMARY:Journée Bien-Être aux Thermes de Spa
DESCRIPTION:La journée bien-être aux Thermes de Spa fait son grand retour. \nCe mardi 10 octobre\, nous vous emmenons pour une journée détente au sein des Ardennes belge.\nAu programme: visite libre de la ville en matinée ou randonnée dans la forêt de Spa encadré par notre animatrice.\nEt l’après-midi sera dédiée aux Thermes. De 13h à 16h\, profitez des installations des Thermes dans un endroit calme et revigorant. \nPour toutes les inscriptions\, et les informations\, merci de prendre contact avec notre secrétariat: 071/507.821.\nInscriptions obligatoires\nDépart de La Hestre et de Charleroi.
URL:https://www.soralia.be/accueil/event/1410-journee-bien-etre-aux-thermes-de-spa/
LOCATION:Thermes de Spa\, Colline d'Annette et Lubin \, SPA\, Liège\, 4900\, Belgique
CATEGORIES:Charleroi,Loisirs,Régional,Santé,Thèmes
ATTACH;FMTTYPE=image/png:https://www.soralia.be/wp-content/uploads/2017/01/calendrier-oct.png
END:VEVENT
END:VCALENDAR