BEGIN:VCALENDAR
VERSION:2.0
PRODID:-//Soralia - ECPv6.15.17.1//NONSGML v1.0//EN
CALSCALE:GREGORIAN
METHOD:PUBLISH
X-WR-CALNAME:Soralia
X-ORIGINAL-URL:https://www.soralia.be/accueil
X-WR-CALDESC:Évènements pour Soralia
REFRESH-INTERVAL;VALUE=DURATION:PT1H
X-Robots-Tag:noindex
X-PUBLISHED-TTL:PT1H
BEGIN:VTIMEZONE
TZID:Europe/Paris
BEGIN:DAYLIGHT
TZOFFSETFROM:+0100
TZOFFSETTO:+0200
TZNAME:CEST
DTSTART:20180325T010000
END:DAYLIGHT
BEGIN:STANDARD
TZOFFSETFROM:+0200
TZOFFSETTO:+0100
TZNAME:CET
DTSTART:20181028T010000
END:STANDARD
BEGIN:DAYLIGHT
TZOFFSETFROM:+0100
TZOFFSETTO:+0200
TZNAME:CEST
DTSTART:20190331T010000
END:DAYLIGHT
BEGIN:STANDARD
TZOFFSETFROM:+0200
TZOFFSETTO:+0100
TZNAME:CET
DTSTART:20191027T010000
END:STANDARD
BEGIN:DAYLIGHT
TZOFFSETFROM:+0100
TZOFFSETTO:+0200
TZNAME:CEST
DTSTART:20200329T010000
END:DAYLIGHT
BEGIN:STANDARD
TZOFFSETFROM:+0200
TZOFFSETTO:+0100
TZNAME:CET
DTSTART:20201025T010000
END:STANDARD
BEGIN:DAYLIGHT
TZOFFSETFROM:+0100
TZOFFSETTO:+0200
TZNAME:CEST
DTSTART:20210328T010000
END:DAYLIGHT
BEGIN:STANDARD
TZOFFSETFROM:+0200
TZOFFSETTO:+0100
TZNAME:CET
DTSTART:20211031T010000
END:STANDARD
BEGIN:DAYLIGHT
TZOFFSETFROM:+0100
TZOFFSETTO:+0200
TZNAME:CEST
DTSTART:20220327T010000
END:DAYLIGHT
BEGIN:STANDARD
TZOFFSETFROM:+0200
TZOFFSETTO:+0100
TZNAME:CET
DTSTART:20221030T010000
END:STANDARD
BEGIN:DAYLIGHT
TZOFFSETFROM:+0100
TZOFFSETTO:+0200
TZNAME:CEST
DTSTART:20230326T010000
END:DAYLIGHT
BEGIN:STANDARD
TZOFFSETFROM:+0200
TZOFFSETTO:+0100
TZNAME:CET
DTSTART:20231029T010000
END:STANDARD
BEGIN:DAYLIGHT
TZOFFSETFROM:+0100
TZOFFSETTO:+0200
TZNAME:CEST
DTSTART:20240331T010000
END:DAYLIGHT
BEGIN:STANDARD
TZOFFSETFROM:+0200
TZOFFSETTO:+0100
TZNAME:CET
DTSTART:20241027T010000
END:STANDARD
END:VTIMEZONE
BEGIN:VEVENT
DTSTART;VALUE=DATE:20230308
DTEND;VALUE=DATE:20230309
DTSTAMP:20260421T144514
CREATED:20230306T092540Z
LAST-MODIFIED:20230306T092540Z
UID:10005678-1678233600-1678319999@www.soralia.be
SUMMARY:Action commune : Stop au statut de cohabitant.e
DESCRIPTION:Dans le cadre des événements autour de la Journée Internationale des Droits des Femmes\, Soralia participe à une action commune dans l’espace public\n\nNous voulons réduire les inégalités entre les hommes et les femmes : ensemble mobilisons-nous pour supprimer le statut de cohabitant.e ! \n\nLe statut de cohabitant.e\n\nRéclamer l’arrêt du statut de cohabitant·e\, c’est exiger la fin de ces situations dans lesquelles des PERSONNES\, DU FAIT QU’ELLES COHABITENT\, PERÇOIVENT UN MONTANT PLUS FAIBLE (que les personnes isolées) d’allocations sociales ou de suppléments\, de correctifs ou d’avantages sociaux. Il en va de même pour quelqu’un·e en invalidité ou amené à recourir à l’aide sociale (RIS). \nCe statut perpétue une image de la famille et des formes de vie commune bien en dehors de la réalité de beaucoup de citoyen·nes. Il véhicule des STÉRÉOTYPES stigmatisants envers les allocataires sociaux\, stéréotypes qui alimentent les oppositions et les divisions au sein du monde du travail et de la société avec des conséquences concrètes qui portent trop souvent atteinte à la dignité des personnes. \nEn savoir plus : Arguments – Stop au statut de cohabitant·e (stop-statut-cohabitant.be) \n\nModalités\nDate : Mercredi 8 mars 2023 \nLieu : Croisement Pont Saint-Laurent – Place Verte \nInfo : pac.verviers@skynet.be • 087/33.75.33
URL:https://www.soralia.be/accueil/event/action-commune-stop-au-statut-de-cohabitant-e/
LOCATION:Verviers
CATEGORIES:Droit & Citoyenneté,Verviers
ATTACH;FMTTYPE=image/png:https://www.soralia.be/wp-content/uploads/2017/01/calendrier-mars.png
END:VEVENT
BEGIN:VEVENT
DTSTART;TZID=Europe/Paris:20190517T193000
DTEND;TZID=Europe/Paris:20190517T220000
DTSTAMP:20260421T144514
CREATED:20190508T100119Z
LAST-MODIFIED:20190508T100119Z
UID:10004481-1558121400-1558130400@www.soralia.be
SUMMARY:Animation Voter\, c’est décider
DESCRIPTION:Vous vous posez des questions sur les élections ? Pourquoi voter ? Pour qui ? Comment ? Les animateurs FPS vous proposent une animation pour y voir clair. Cette animation a pour objectif de sensibiliser chaque participant·e aux enjeux individuels et collectifs d’une élection\, de l’égalité homme/femme et de l’importance d’exercer sa citoyenneté au travers de son droit d’aller voter. \nProchaines animations programmées\nAnimations ouvertes à toutes et tous : \n13/05/2019 de 17h00 à 20h00 à Liège (Solidaris – rue Douffet\, 36 à 4020 Liège)\n17/05/2019 de 19h30 à 22h00 à Verviers (Lieu à confirmer)\n22/05/2019 de 13h30 à 16h30 à Liège (Solidaris – rue Douffet\, 36 à 4020 Liège) \nGratuit\n \nRéservations\nPour Verviers : fps.verviers@solidaris.be • 0497 55 49 68\nPour Liège : mouvement.fps.liege@solidaris.be · 04 223 01 50
URL:https://www.soralia.be/accueil/event/animation-voter-cest-decider-4/
LOCATION:Verviers
CATEGORIES:Droit & Citoyenneté,Liège,Régional,Thèmes
ATTACH;FMTTYPE=image/png:https://www.soralia.be/wp-content/uploads/2017/01/calendrier-mai.png
END:VEVENT
END:VCALENDAR