BEGIN:VCALENDAR
VERSION:2.0
PRODID:-//Soralia - ECPv6.15.17.1//NONSGML v1.0//EN
CALSCALE:GREGORIAN
METHOD:PUBLISH
X-ORIGINAL-URL:https://www.soralia.be/accueil
X-WR-CALDESC:Évènements pour Soralia
REFRESH-INTERVAL;VALUE=DURATION:PT1H
X-Robots-Tag:noindex
X-PUBLISHED-TTL:PT1H
BEGIN:VTIMEZONE
TZID:Europe/Paris
BEGIN:DAYLIGHT
TZOFFSETFROM:+0100
TZOFFSETTO:+0200
TZNAME:CEST
DTSTART:20170326T010000
END:DAYLIGHT
BEGIN:STANDARD
TZOFFSETFROM:+0200
TZOFFSETTO:+0100
TZNAME:CET
DTSTART:20171029T010000
END:STANDARD
BEGIN:DAYLIGHT
TZOFFSETFROM:+0100
TZOFFSETTO:+0200
TZNAME:CEST
DTSTART:20180325T010000
END:DAYLIGHT
BEGIN:STANDARD
TZOFFSETFROM:+0200
TZOFFSETTO:+0100
TZNAME:CET
DTSTART:20181028T010000
END:STANDARD
BEGIN:DAYLIGHT
TZOFFSETFROM:+0100
TZOFFSETTO:+0200
TZNAME:CEST
DTSTART:20190331T010000
END:DAYLIGHT
BEGIN:STANDARD
TZOFFSETFROM:+0200
TZOFFSETTO:+0100
TZNAME:CET
DTSTART:20191027T010000
END:STANDARD
BEGIN:DAYLIGHT
TZOFFSETFROM:+0100
TZOFFSETTO:+0200
TZNAME:CEST
DTSTART:20200329T010000
END:DAYLIGHT
BEGIN:STANDARD
TZOFFSETFROM:+0200
TZOFFSETTO:+0100
TZNAME:CET
DTSTART:20201025T010000
END:STANDARD
BEGIN:DAYLIGHT
TZOFFSETFROM:+0100
TZOFFSETTO:+0200
TZNAME:CEST
DTSTART:20210328T010000
END:DAYLIGHT
BEGIN:STANDARD
TZOFFSETFROM:+0200
TZOFFSETTO:+0100
TZNAME:CET
DTSTART:20211031T010000
END:STANDARD
END:VTIMEZONE
BEGIN:VEVENT
DTSTART;TZID=Europe/Paris:20201125T200000
DTEND;TZID=Europe/Paris:20201125T230000
DTSTAMP:20260420T151543
CREATED:20201006T142113Z
LAST-MODIFIED:20201006T144122Z
UID:10005027-1606334400-1606345200@www.soralia.be
SUMMARY:Projection de "La belle et la meute"
DESCRIPTION:Dans le cadre de la Journée internationale pour l’élimination de la violence à l’égard des femmes\, Soralia Brabant wallon et leur comité local de Nivelles\, Laïcité Brabant wallon et le Ciné4 vous invitent à la projection de « La belle et la meute » de Kaouter Ben Hania.\n\nLa Belle et la Meute s’attaque au difficile sujet du viol en suivant une jeune femme tunisienne lors d’une longue nuit de combat pour obtenir justice. Entièrement tourné en plans-séquence\, le spectateur suit\, impuissant\, cette «belle» victime d’un crime face à la cruelle «meute» de policiers et de personnel médical. Impressionnante de justesse\, l’actrice Mariam Al Ferjani incarne avec une profonde résilience le personnage principal de cette histoire inspirée de faits réels. Un film coup de poing\, bouleversant et essentiel. (Focus Vif)\n\nInformations pratiques\n\nQuand ? Le mercredi 25 novembre à 20h\nOù ? au Ciné4 (4\, rue de Soignies à Nivelles)\nPrix : 5€\nRéservations : www.cine4.be
URL:https://www.soralia.be/accueil/event/projection-de-la-belle-et-la-meute/
LOCATION:Ciné 4\, Rue de Soignies 4\, Nivelles\, 1400\, Belgique
CATEGORIES:Brabant wallon,Droit & Citoyenneté,Egalité femme-homme,Régional,Thèmes,Violences
END:VEVENT
BEGIN:VEVENT
DTSTART;TZID=Europe/Paris:20201123T080000
DTEND;TZID=Europe/Paris:20201204T170000
DTSTAMP:20260420T151543
CREATED:20201006T143917Z
LAST-MODIFIED:20201006T143917Z
UID:10005031-1606118400-1607101200@www.soralia.be
SUMMARY:Exposition "Que portais-tu ce jour-là ?"
DESCRIPTION:Dans le cadre de la Journée internationale pour l’élimination de la violence à l’égard des femmes\, Soralia Brabant wallon et leur comité local de Nivelles\, Laïcité Brabant wallon et le Ciné4 vous invitent à l’exposition « Que portais-tu ce jour là ? »\, d’Amnesty Internationale.\n\nLe but de cette exposition est d’apporter une réponse concrète à l’un des mythes les plus répandus de la culture du viol : l’idée selon laquelle les vêtements\, et plus généralement la façon dont on est habillé\, peuvent «inviter» au viol est dévastatrice\, aussi bien pour les personnes ayant subi un viol que pour notre société.\n\nVernissage : le lundi 23 novembre à 18h30. (inscription souhaitée : https://www.calbw.be/inscription-vernissage-que-portais…)\n\nInformations pratiques\n\nQuand ? du 23 novembre au 04 décembre 2020\nOù ? Au Palais de Justice II de Nivelles (115\, Rue Clarisse)\nPrix : gratuit\nCette exposition est organisée en collaboration avec Arthémis.
URL:https://www.soralia.be/accueil/event/exposition-que-portais-tu-ce-jour-la/
LOCATION:Palais de Justice II\, Rue Clarisse 115\, Nivelles\, 1400\, Belgique
CATEGORIES:Brabant wallon,Egalité femme-homme,Régional,Sexualité,Thèmes,Violences
END:VEVENT
BEGIN:VEVENT
DTSTART;TZID=Europe/Paris:20201123T080000
DTEND;TZID=Europe/Paris:20201204T170000
DTSTAMP:20260420T151543
CREATED:20201006T143552Z
LAST-MODIFIED:20201013T092256Z
UID:10005030-1606118400-1607101200@www.soralia.be
SUMMARY:Exposition - "Les Crocodiles"
DESCRIPTION:Dans le cadre de la Journée internationale pour l’élimination de la violence à l’égard des femmes\, Soralia Brabant wallon et leur comité local de Nivelles\, Laïcité Brabant wallon et le Ciné4 vous invitent à l’exposition « Les Crocodiles » (par Juliette Boutant et Thomas Mathieu).\n\nLe projet crocodiles regroupe des témoignages de femmes victimes de harcèlement sexuel et sexiste. Initialement centré sur le harcèlement de rue\, nous avons également reçu et dessiné des témoignages de harcèlement dans le monde du travail\, d’agressions\, des failles de la police dans la prise en charge des plaintes\, et dernièrement des violences obstétricales et gynécologiques.\n\nVernissage : le mercredi 25 novembre à 18h30.\n\nINFORMATIONS PRATIQUES :\n\nQuand ? du 23 novembre au 04 décembre 2020\nOù ? À la Salle des Marbres de l’Hotel de Ville de Nivelles\nPrix : gratuit
URL:https://www.soralia.be/accueil/event/exposition-les-crocodiles/
LOCATION:Hôtel de Ville de Nivelles\, Place Albert Ier 2\, Nivelles\, 1400\, Belgique
CATEGORIES:Brabant wallon,Egalité femme-homme,Général,Régional,Thèmes,Violences
ATTACH;FMTTYPE=image/png:https://www.soralia.be/wp-content/uploads/2017/01/calendrier-nov.png
ORGANIZER;CN="FPS Brabant wallon":MAILTO:fpsbw@solidaris.be
END:VEVENT
BEGIN:VEVENT
DTSTART;TZID=Europe/Paris:20191127T140000
DTEND;TZID=Europe/Paris:20191127T160000
DTSTAMP:20260420T151543
CREATED:20190910T125035Z
LAST-MODIFIED:20190910T125035Z
UID:10004668-1574863200-1574870400@www.soralia.be
SUMMARY:Atelier créatif sur le thème des stéréotypes de genre
DESCRIPTION:Inscription souhaitée
URL:https://www.soralia.be/accueil/event/atelier-creatif-sur-le-theme-des-stereotypes-de-genre/
LOCATION:Espace Wallonie de Nivelles\, rue de Namur 67\, Nivelles\, 1400\, Belgique
CATEGORIES:Brabant wallon,Egalité femme-homme,Régional,Thèmes,Violences
END:VEVENT
BEGIN:VEVENT
DTSTART;TZID=Europe/Paris:20191125T093000
DTEND;TZID=Europe/Paris:20191129T170000
DTSTAMP:20260420T151543
CREATED:20190910T124832Z
LAST-MODIFIED:20191104T094600Z
UID:10004667-1574674200-1575046800@www.soralia.be
SUMMARY:Exposition « Créer pour (s’)oublier »
DESCRIPTION:Dans le cadre de la journée internationale de lutte contre les violences conjugales\, Soralia de Nivelles\, en collaboration avec le CAL Brabant wallon  vous proposent de découvrir l’exposition « Créer pour (s’) oublier » réalisée par Emilie Ringlet. \nAu travers de celle-ci\, elle vous fait part de l’expérience dont elle a été victime et dont elle est sortie  tête haute. Ce sont sa créativité et sa capacité à se projeter dans un riche imaginaire qui lui ont permis de se reconstruire.
URL:https://www.soralia.be/accueil/event/exposition-creer-pour-s-oublier/
LOCATION:Espace Wallonie de Nivelles\, rue de Namur 67\, Nivelles\, 1400\, Belgique
CATEGORIES:Brabant wallon,Culture,Régional,Thèmes,Violences
END:VEVENT
BEGIN:VEVENT
DTSTART;TZID=Europe/Paris:20191002T140000
DTEND;TZID=Europe/Paris:20191002T170000
DTSTAMP:20260420T151543
CREATED:20190910T112747Z
LAST-MODIFIED:20190910T112747Z
UID:10004659-1570024800-1570035600@www.soralia.be
SUMMARY:Atelier « D-Stress »
DESCRIPTION:Dans le cadre de la semaine du cœur\, Soralia de Nivelles souhaitent sensibiliser plus particulièrement au stress\, un facteur important de risques liés aux maladies cardio-vasculaires. Soralia vous proposent de participer à leur atelier « D-Stress » qui vous permettra d’échanger sur les causes et conséquences du stress et sur la manière dont chacun peut y faire face.
URL:https://www.soralia.be/accueil/event/atelier-d-stress-2/
LOCATION:Permanence Solidaris\, Rue Saint André 1\, Nivelles\, 1400\, Belgique
CATEGORIES:Brabant wallon,Régional,Santé,Thèmes
END:VEVENT
BEGIN:VEVENT
DTSTART;TZID=Europe/Paris:20190930T190000
DTEND;TZID=Europe/Paris:20190930T213000
DTSTAMP:20260420T151543
CREATED:20190910T112621Z
LAST-MODIFIED:20190910T112621Z
UID:10004658-1569870000-1569879000@www.soralia.be
SUMMARY:Atelier « D-Stress »
DESCRIPTION:Dans le cadre de la semaine du cœur\, Soralia de Nivelles souhaitent sensibiliser plus particulièrement au stress\, un facteur important de risques liés aux maladies cardio-vasculaires. Soralia vous proposent de participer à leur atelier « D-Stress » qui vous permettra d’échanger sur les causes et conséquences du stress et sur la manière dont chacun peut y faire face.
URL:https://www.soralia.be/accueil/event/atelier-d-stress/
LOCATION:Permanence Solidaris\, Rue Saint André 1\, Nivelles\, 1400\, Belgique
CATEGORIES:Brabant wallon,Régional,Santé,Thèmes
END:VEVENT
BEGIN:VEVENT
DTSTART;TZID=Europe/Paris:20190313T183000
DTEND;TZID=Europe/Paris:20190313T203000
DTSTAMP:20260420T151543
CREATED:20190131T132404Z
LAST-MODIFIED:20190312T154405Z
UID:10004381-1552501800-1552509000@www.soralia.be
SUMMARY:Vernissage de l'exposition "Parcours de combattantes"
DESCRIPTION:Vernissage de l’exposition suivie d’une animation visant la découverte de celle-ci.
URL:https://www.soralia.be/accueil/event/vernissage-de-lexposition-parcours-de-combattantes/
LOCATION:Espace Wallonie de Nivelles\, rue de Namur 67\, Nivelles\, 1400\, Belgique
CATEGORIES:Brabant wallon,Culture,Droit & Citoyenneté,Egalité femme-homme,Régional,Thèmes
END:VEVENT
BEGIN:VEVENT
DTSTART;TZID=Europe/Paris:20190313T140000
DTEND;TZID=Europe/Paris:20190313T160000
DTSTAMP:20260420T151543
CREATED:20190131T132153Z
LAST-MODIFIED:20190312T154336Z
UID:10004380-1552485600-1552492800@www.soralia.be
SUMMARY:Atelier créatif sur le thème des droits des femmes
DESCRIPTION:Atelier créatif dans le cadre de l’exposition « Parcours de combattantes ».
URL:https://www.soralia.be/accueil/event/atelier-creatif-sur-le-theme-des-droits-des-femmes/
LOCATION:Espace Wallonie de Nivelles\, Rue de Namur 67\, Nivelles
CATEGORIES:Brabant wallon,Culture,Droit & Citoyenneté,Egalité femme-homme,Loisirs,Régional,Thèmes
END:VEVENT
BEGIN:VEVENT
DTSTART;VALUE=DATE:20190312
DTEND;VALUE=DATE:20190323
DTSTAMP:20260420T151543
CREATED:20190131T132012Z
LAST-MODIFIED:20190131T132012Z
UID:10004379-1552348800-1553299199@www.soralia.be
SUMMARY:Exposition "Parcours de combattantes"
DESCRIPTION:Soralia de Nivelles  vous proposent de découvrir l’exposition « Parcours de combattantes » réalisée par Soralia en collaboration avec l’IHOES (Institut d’Histoire Ouvrière\, Economique et Sociale). \nAu travers de celle-ci\, venez découvrir 125 ans de luttes politiques des femmes en Belgique.
URL:https://www.soralia.be/accueil/event/exposition-parcours-de-combattantes-2/
LOCATION:Espace Wallonie de Nivelles\, rue de Namur 67\, Nivelles\, 1400\, Belgique
CATEGORIES:Brabant wallon,Culture,Droit & Citoyenneté,Egalité femme-homme,Régional,Thèmes
END:VEVENT
BEGIN:VEVENT
DTSTART;TZID=Europe/Paris:20190207T193000
DTEND;TZID=Europe/Paris:20190207T220000
DTSTAMP:20260420T151543
CREATED:20190131T135232Z
LAST-MODIFIED:20190131T135232Z
UID:10004391-1549567800-1549576800@www.soralia.be
SUMMARY:Conférence - L’apnée du sommeil : Quelles conséquences sur la santé ?
DESCRIPTION:L’apnée du sommeil est un trouble respiratoire du sommeil qui peut s’avérer très néfaste pour la santé. Outre la fatigue et les ronflements\, ses conséquences sont plus importantes qu’on ne le pense.\nSoralia DE NIVELLES vous proposent une conférence-débat avec la participation de PAUL WULLEMAN\, médecin et pneumologue.
URL:https://www.soralia.be/accueil/event/conference-lapnee-du-sommeil-quelles-consequences-sur-la-sante-3/
LOCATION:Permanence Solidaris\, Rue Saint André 1\, Nivelles\, 1400\, Belgique
CATEGORIES:Brabant wallon,Régional,Santé,Thèmes
END:VEVENT
BEGIN:VEVENT
DTSTART;TZID=Europe/Paris:20181001T190000
DTEND;TZID=Europe/Paris:20181001T230000
DTSTAMP:20260420T151543
CREATED:20180911T090000Z
LAST-MODIFIED:20180911T090914Z
UID:10004097-1538420400-1538434800@www.soralia.be
SUMMARY:Elections 2018 : Pour qui ? Pourquoi ? Comment ?
DESCRIPTION:Le 14 octobre\, nous irons voter. Pour qui ? Pourquoi ? Comment ? Venez comprendre les enjeux des élections et déconstruire avec nous les idées reçues sur la politique. \nPlus d’infos :\nCéline Scokaert : 0478 30 14 68
URL:https://www.soralia.be/accueil/event/elections-2018-pour-qui-pourquoi-comment/
LOCATION:Permanence Solidaris\, Rue Saint André 1\, Nivelles\, 1400\, Belgique
CATEGORIES:Brabant wallon,Droit & Citoyenneté,Régional,Thèmes
END:VEVENT
BEGIN:VEVENT
DTSTART;TZID=Europe/Paris:20180514T190000
DTEND;TZID=Europe/Paris:20180514T220000
DTSTAMP:20260420T151543
CREATED:20180404T090942Z
LAST-MODIFIED:20180404T090942Z
UID:10003961-1526324400-1526335200@www.soralia.be
SUMMARY:Voter c'est décider - Nivelles
DESCRIPTION:Le 14 octobre 2018\, nous irons voter ! Pour qui ? Pour quoi ? Comment ? \nVenez comprendre les enjeux des élections et déconstruire avec nous les idées reçues sur la politique.\nSoralia Brabant wallon organisent une animation gratuite le lundi 14 mai à 19h à la permanence Solidaris Nivelles\, rue Saint André\, 1 à1400 Nivelles.\nInformations : Céline Scokaert : 0478 30 14 68
URL:https://www.soralia.be/accueil/event/voter-cest-decider-nivelles/
LOCATION:Solidaris Nivelles\, Rue Saint André 1\, Nivelles\, 1400\, Belgique
END:VEVENT
BEGIN:VEVENT
DTSTART;TZID=Europe/Paris:20180307T133000
DTEND;TZID=Europe/Paris:20180307T160000
DTSTAMP:20260420T151544
CREATED:20180104T090132Z
LAST-MODIFIED:20180104T090132Z
UID:10003929-1520429400-1520438400@www.soralia.be
SUMMARY:Atelier créatif "What is a woman"
DESCRIPTION:
URL:https://www.soralia.be/accueil/event/atelier-creatif-what-is-a-woman/
LOCATION:Espace Wallonie de Nivelles\, Rue de Namur 67\, Nivelles
END:VEVENT
BEGIN:VEVENT
DTSTART;TZID=Europe/Paris:20180305T100000
DTEND;TZID=Europe/Paris:20180308T160000
DTSTAMP:20260420T151544
CREATED:20180104T085953Z
LAST-MODIFIED:20180212T152604Z
UID:10003928-1520244000-1520524800@www.soralia.be
SUMMARY:Exposition « What is a woman »
DESCRIPTION:Dans le cadre de la journée internationale des femmes\, Soralia de Nivelles vous proposent de venir découvrir une exposition sur la vision que nous avons des femmes aujourd’hui. Vous pourrez aussi apporter votre regard via un atelier créatif. \nDévernissage le 8 mars à partir de 19h.
URL:https://www.soralia.be/accueil/event/exposition-what-is-a-woman-2/
LOCATION:Espace Wallonie de Nivelles\, Rue de Namur 67\, Nivelles
CATEGORIES:Brabant wallon,Droit & Citoyenneté,Egalité femme-homme,Régional,Thèmes
ATTACH;FMTTYPE=image/png:https://www.soralia.be/wp-content/uploads/2017/01/calendrier-mars.png
END:VEVENT
END:VCALENDAR