BEGIN:VCALENDAR
VERSION:2.0
PRODID:-//Soralia - ECPv6.15.17.1//NONSGML v1.0//EN
CALSCALE:GREGORIAN
METHOD:PUBLISH
X-ORIGINAL-URL:https://www.soralia.be/accueil
X-WR-CALDESC:Évènements pour Soralia
REFRESH-INTERVAL;VALUE=DURATION:PT1H
X-Robots-Tag:noindex
X-PUBLISHED-TTL:PT1H
BEGIN:VTIMEZONE
TZID:Europe/Paris
BEGIN:DAYLIGHT
TZOFFSETFROM:+0100
TZOFFSETTO:+0200
TZNAME:CEST
DTSTART:20250330T010000
END:DAYLIGHT
BEGIN:STANDARD
TZOFFSETFROM:+0200
TZOFFSETTO:+0100
TZNAME:CET
DTSTART:20251026T010000
END:STANDARD
BEGIN:DAYLIGHT
TZOFFSETFROM:+0100
TZOFFSETTO:+0200
TZNAME:CEST
DTSTART:20260329T010000
END:DAYLIGHT
BEGIN:STANDARD
TZOFFSETFROM:+0200
TZOFFSETTO:+0100
TZNAME:CET
DTSTART:20261025T010000
END:STANDARD
BEGIN:DAYLIGHT
TZOFFSETFROM:+0100
TZOFFSETTO:+0200
TZNAME:CEST
DTSTART:20270328T010000
END:DAYLIGHT
BEGIN:STANDARD
TZOFFSETFROM:+0200
TZOFFSETTO:+0100
TZNAME:CET
DTSTART:20271031T010000
END:STANDARD
END:VTIMEZONE
BEGIN:VEVENT
DTSTART;TZID=Europe/Paris:20260308T170000
DTEND;TZID=Europe/Paris:20260308T203000
DTSTAMP:20260424T122812
CREATED:20260206T081750Z
LAST-MODIFIED:20260225T150752Z
UID:10006410-1772989200-1773001800@www.soralia.be
SUMMARY:Ciné-Débat 8 mars Projection EX UTERO de Lili Forestier - CL Boussu-Hornu
DESCRIPTION:Dans le cadre du 8 mars\, journée internationale des droits des femmes\, le Comité Local Soralia Boussu-Hornu vous invite à la projection de EX UTERO\, un film documentaire de Lili Forestier. \nSynopsis: Ex utero navigue entre une certaine histoire de la gynécologie et témoignages contemporains.\nFace à nous\, répondant à des siècles de pratiques\, des femmes témoignent d’une chose en commun: avoir été confrontées un jour aux maltraitances gynécologiques. \nOÙ ? Centre Culturel de Boussu\nRue François Dorzée – 7300 Boussu\nQUAND ? Dimanche 8 mars 2026 dès 17h \nPROGRAMME\n17h00 : Accueil\n17h30 : Projection du film Ex utero\n18h45 : Débat et verre de la sororité\nEN PRÉSENCE DE LA RÉALISATRICE LILI FORESTIER \nActivité gratuite \nInscription souhaitée :\nFrançoise Huvelle (Secrétaire) : 0472 26 69 95\nMaud Detombe (Présidente) : 0472 65 01 86
URL:https://www.soralia.be/accueil/event/cine-debat-8-mars-projection-ex-utero-de-lili-forestier-cl-boussu-hornu/
LOCATION:Centre Culturel de Boussu\, Rue François Dorzée\, Boussu\, 7300\, Belgium
CATEGORIES:Culture,Egalité femme-homme,Mons-Borinage
ATTACH;FMTTYPE=image/png:https://www.soralia.be/wp-content/uploads/2017/01/calendrier-mars.png
END:VEVENT
END:VCALENDAR